BEGIN:VCALENDAR
VERSION:2.0
PRODID:icalendar-ruby
CALSCALE:GREGORIAN
METHOD:PUBLISH
BEGIN:VEVENT
DTSTAMP:20260422T005002Z
UID:54-253246@stcolumbamarathon.org
DTSTART:20260421T213000Z
DTEND:20260421T223000Z
CLASS:PUBLIC
CREATED:20260421T184221
DESCRIPTION:
LAST-MODIFIED:20260421T184221
LOCATION:The Abbey @ St. Columba
SUMMARY:Alcoholics Anonymous
URL;VALUE=URI:https://www.stcolumbamarathon.org/events/alcoholics-anonymous
 /2026-04-21
END:VEVENT
END:VCALENDAR
