BEGIN:VCALENDAR
VERSION:2.0
PRODID:icalendar-ruby
CALSCALE:GREGORIAN
METHOD:PUBLISH
BEGIN:VEVENT
DTSTAMP:20260422T072814Z
UID:54-253474@stcolumbamarathon.org
DTSTART:20260427T213000Z
DTEND:20260427T223000Z
CLASS:PUBLIC
CREATED:20260421T212108
DESCRIPTION:
LAST-MODIFIED:20260421T212108
LOCATION:The Abbey @ St. Columba
SUMMARY:Alcoholics Anonymous
URL;VALUE=URI:https://www.stcolumbamarathon.org/events/alcoholics-anonymous
 /2026-04-27
END:VEVENT
END:VCALENDAR
