BEGIN:VCALENDAR
VERSION:2.0
PRODID:icalendar-ruby
CALSCALE:GREGORIAN
METHOD:PUBLISH
BEGIN:VEVENT
DTSTAMP:20260424T095324Z
UID:54-256220@stcolumbamarathon.org
DTSTART:20260511T213000Z
DTEND:20260511T223000Z
CLASS:PUBLIC
CREATED:20260423T230104
DESCRIPTION:
LAST-MODIFIED:20260423T230104
LOCATION:The Abbey @ St. Columba
SUMMARY:Alcoholics Anonymous
URL;VALUE=URI:https://www.stcolumbamarathon.org/events/alcoholics-anonymous
 /2026-05-11
END:VEVENT
END:VCALENDAR
