BEGIN:VCALENDAR
VERSION:2.0
PRODID:icalendar-ruby
CALSCALE:GREGORIAN
METHOD:PUBLISH
BEGIN:VEVENT
DTSTAMP:20260424T135559Z
UID:54-256449@stcolumbamarathon.org
DTSTART:20260601T213000Z
DTEND:20260601T223000Z
CLASS:PUBLIC
CREATED:20260424T082913
DESCRIPTION:
LAST-MODIFIED:20260424T082913
LOCATION:The Abbey @ St. Columba
SUMMARY:Alcoholics Anonymous
URL;VALUE=URI:https://www.stcolumbamarathon.org/events/alcoholics-anonymous
 /2026-06-01
END:VEVENT
END:VCALENDAR
