BEGIN:VCALENDAR
VERSION:2.0
PRODID:icalendar-ruby
CALSCALE:GREGORIAN
METHOD:PUBLISH
BEGIN:VEVENT
DTSTAMP:20260424T152703Z
UID:54-256676@stcolumbamarathon.org
DTSTART:20260608T213000Z
DTEND:20260608T223000Z
CLASS:PUBLIC
CREATED:20260424T112200
DESCRIPTION:
LAST-MODIFIED:20260424T112200
LOCATION:The Abbey @ St. Columba
SUMMARY:Alcoholics Anonymous
URL;VALUE=URI:https://www.stcolumbamarathon.org/events/alcoholics-anonymous
 /2026-06-08
END:VEVENT
END:VCALENDAR
