BEGIN:VCALENDAR
VERSION:2.0
PRODID:icalendar-ruby
CALSCALE:GREGORIAN
METHOD:PUBLISH
BEGIN:VEVENT
DTSTAMP:20260424T201825Z
UID:54-256905@stcolumbamarathon.org
DTSTART:20260629T213000Z
DTEND:20260629T223000Z
CLASS:PUBLIC
CREATED:20260424T140809
DESCRIPTION:
LAST-MODIFIED:20260424T140809
LOCATION:The Abbey @ St. Columba
SUMMARY:Alcoholics Anonymous
URL;VALUE=URI:https://www.stcolumbamarathon.org/events/alcoholics-anonymous
 /2026-06-29
END:VEVENT
END:VCALENDAR
