BEGIN:VCALENDAR
VERSION:2.0
PRODID:icalendar-ruby
CALSCALE:GREGORIAN
METHOD:PUBLISH
BEGIN:VEVENT
DTSTAMP:20260424T214221Z
UID:54-257132@stcolumbamarathon.org
DTSTART:20260706T213000Z
DTEND:20260706T223000Z
CLASS:PUBLIC
CREATED:20260424T165545
DESCRIPTION:
LAST-MODIFIED:20260424T165545
LOCATION:The Abbey @ St. Columba
SUMMARY:Alcoholics Anonymous
URL;VALUE=URI:https://www.stcolumbamarathon.org/events/alcoholics-anonymous
 /2026-07-06
END:VEVENT
END:VCALENDAR
