BEGIN:VCALENDAR
VERSION:2.0
PRODID:icalendar-ruby
CALSCALE:GREGORIAN
METHOD:PUBLISH
BEGIN:VEVENT
DTSTAMP:20260425T112540Z
UID:54-257593@stcolumbamarathon.org
DTSTART:20260831T213000Z
DTEND:20260831T223000Z
CLASS:PUBLIC
CREATED:20260424T223309
DESCRIPTION:
LAST-MODIFIED:20260424T223309
LOCATION:The Abbey @ St. Columba
SUMMARY:Alcoholics Anonymous
URL;VALUE=URI:https://www.stcolumbamarathon.org/events/alcoholics-anonymous
 /2026-08-31
END:VEVENT
END:VCALENDAR
