BEGIN:VCALENDAR
VERSION:2.0
PRODID:icalendar-ruby
CALSCALE:GREGORIAN
METHOD:PUBLISH
BEGIN:VEVENT
DTSTAMP:20260425T145010Z
UID:54-257822@stcolumbamarathon.org
DTSTART:20260914T213000Z
DTEND:20260914T223000Z
CLASS:PUBLIC
CREATED:20260425T081728
DESCRIPTION:
LAST-MODIFIED:20260425T081728
LOCATION:The Abbey @ St. Columba
SUMMARY:Alcoholics Anonymous
URL;VALUE=URI:https://www.stcolumbamarathon.org/events/alcoholics-anonymous
 /2026-09-14
END:VEVENT
END:VCALENDAR
