BEGIN:VCALENDAR
VERSION:2.0
PRODID:icalendar-ruby
CALSCALE:GREGORIAN
METHOD:PUBLISH
BEGIN:VEVENT
DTSTAMP:20260425T162920Z
UID:54-258051@stcolumbamarathon.org
DTSTART:20260921T213000Z
DTEND:20260921T223000Z
CLASS:PUBLIC
CREATED:20260425T105823
DESCRIPTION:
LAST-MODIFIED:20260425T105823
LOCATION:The Abbey @ St. Columba
SUMMARY:Alcoholics Anonymous
URL;VALUE=URI:https://www.stcolumbamarathon.org/events/alcoholics-anonymous
 /2026-09-21
END:VEVENT
END:VCALENDAR
