BEGIN:VCALENDAR
VERSION:2.0
PRODID:icalendar-ruby
CALSCALE:GREGORIAN
METHOD:PUBLISH
BEGIN:VEVENT
DTSTAMP:20260425T201251Z
UID:54-258281@stcolumbamarathon.org
DTSTART:20261005T213000Z
DTEND:20261005T223000Z
CLASS:PUBLIC
CREATED:20260425T133818
DESCRIPTION:
LAST-MODIFIED:20260425T133818
LOCATION:The Abbey @ St. Columba
SUMMARY:Alcoholics Anonymous
URL;VALUE=URI:https://www.stcolumbamarathon.org/events/alcoholics-anonymous
 /2026-10-05
END:VEVENT
END:VCALENDAR
