BEGIN:VCALENDAR
VERSION:2.0
PRODID:icalendar-ruby
CALSCALE:GREGORIAN
METHOD:PUBLISH
BEGIN:VEVENT
DTSTAMP:20260425T220157Z
UID:54-258510@stcolumbamarathon.org
DTSTART:20261012T213000Z
DTEND:20261012T223000Z
CLASS:PUBLIC
CREATED:20260425T161952
DESCRIPTION:
LAST-MODIFIED:20260425T161952
LOCATION:The Abbey @ St. Columba
SUMMARY:Alcoholics Anonymous
URL;VALUE=URI:https://www.stcolumbamarathon.org/events/alcoholics-anonymous
 /2026-10-12
END:VEVENT
END:VCALENDAR
