BEGIN:VCALENDAR
VERSION:2.0
PRODID:icalendar-ruby
CALSCALE:GREGORIAN
METHOD:PUBLISH
BEGIN:VEVENT
DTSTAMP:20260425T235652Z
UID:54-258739@stcolumbamarathon.org
DTSTART:20261019T213000Z
DTEND:20261019T223000Z
CLASS:PUBLIC
CREATED:20260425T190219
DESCRIPTION:
LAST-MODIFIED:20260425T190219
LOCATION:The Abbey @ St. Columba
SUMMARY:Alcoholics Anonymous
URL;VALUE=URI:https://www.stcolumbamarathon.org/events/alcoholics-anonymous
 /2026-10-19
END:VEVENT
END:VCALENDAR
