BEGIN:VCALENDAR
VERSION:2.0
PRODID:icalendar-ruby
CALSCALE:GREGORIAN
METHOD:PUBLISH
BEGIN:VEVENT
DTSTAMP:20260426T014521Z
UID:54-258968@stcolumbamarathon.org
DTSTART:20261026T213000Z
DTEND:20261026T223000Z
CLASS:PUBLIC
CREATED:20260425T214414
DESCRIPTION:
LAST-MODIFIED:20260425T214414
LOCATION:The Abbey @ St. Columba
SUMMARY:Alcoholics Anonymous
URL;VALUE=URI:https://www.stcolumbamarathon.org/events/alcoholics-anonymous
 /2026-10-26
END:VEVENT
END:VCALENDAR
