BEGIN:VCALENDAR
VERSION:2.0
PRODID:icalendar-ruby
CALSCALE:GREGORIAN
METHOD:PUBLISH
BEGIN:VEVENT
DTSTAMP:20260422T072727Z
UID:55-253505@stcolumbamarathon.org
DTSTART:20260519T220000Z
DTEND:20260519T233000Z
CLASS:PUBLIC
CREATED:20260421T212108
DESCRIPTION:
LAST-MODIFIED:20260421T212108
LOCATION:Parish Hall
SUMMARY:Steel Drum Band of the Florida Keys
URL;VALUE=URI:https://www.stcolumbamarathon.org/events/steel-drum-band-of-t
 he-florida-keys/2026-05-19
ATTACH;FILENAME=IMG_5221.JPG;FMTTYPE=image/jpeg:https://dq5pwpg1q8ru0.cloud
 front.net/2026/04/21/20/48/58/bf9252cb-b2bb-4dd7-8ff4-e389ea00a13e/IMG_522
 1.JPG
END:VEVENT
END:VCALENDAR
