BEGIN:VCALENDAR
VERSION:2.0
PRODID:icalendar-ruby
CALSCALE:GREGORIAN
METHOD:PUBLISH
BEGIN:VEVENT
DTSTAMP:20260422T072508Z
UID:56-253079@stcolumbamarathon.org
DTSTART:20260424T140000Z
DTEND:20260424T180000Z
CLASS:PUBLIC
CREATED:20260421T170201
DESCRIPTION:All proceeds from sales at The Nearly New Thrift Shop on Friday
  April 24th will go to our friends at United Way of Collier &amp\; the Key
 s! \nThe Hammock House of St. Columba Episcopal Church has received a gen
 erous $20\,000 grant from United Way of Collier and the Keys to support ou
 r free After School &amp\; Camp Program.\nThe Hammock House was founded by
  Rev. Debra Maconaughey and the concerned parish of St. Columba Episcopal 
 Church in 2011 to aid the working families in the Middle Keys to provide f
 ree after school care and free camp when the kids are out of school. \nT
 he mission of United Way of Collier and the Keys is to respond to communit
 y issues by uniting people and resources to create lasting change for a br
 ighter future. Its vision is that all individuals and families living and 
 working in Collier County and the Florida Keys have access to the resource
 s and opportunities they need to succeed and thrive and The Hammock House 
 @ St. Columba is so thankful for their generous grant!
LAST-MODIFIED:20260421T170201
LOCATION:The Nearly New Thrift Shop
SUMMARY:United Way Day at The Nearly New Thrift Shop
URL;VALUE=URI:https://www.stcolumbamarathon.org/events/united-way-day-at-th
 e-nearly-new-thrift-shop/2026-04-24
ATTACH;FILENAME=uited-way.jpg;FMTTYPE=image/jpeg:https://dq5pwpg1q8ru0.clou
 dfront.net/2026/04/21/21/02/01/97693b61-2f0f-4699-bfa5-b4bed2555667/uited-
 way.jpg
END:VEVENT
END:VCALENDAR
