BEGIN:VCALENDAR
VERSION:2.0
PRODID:icalendar-ruby
CALSCALE:GREGORIAN
METHOD:PUBLISH
BEGIN:VEVENT
DTSTAMP:20260423T141202Z
UID:57-253080@stcolumbamarathon.org
DTSTART:20260425T120000Z
DTEND:20260425T160000Z
CLASS:PUBLIC
CREATED:20260421T173028
DESCRIPTION:Join us "Under the Abbey" and fill a HUGE garbage bag with clot
 hes\, shoes\, housewares\, books and soooo much more. 
LAST-MODIFIED:20260421T173028
LOCATION:The Abbey @ St. Columba
SUMMARY:World Famous $5 Bag Sale
URL;VALUE=URI:https://www.stcolumbamarathon.org/events/world-famous-5-bag-s
 ale--57/2026-04-25
ATTACH;FILENAME=%245-Bag-Sale-%284%29.jpg;FMTTYPE=image/jpeg:https://dq5pwp
 g1q8ru0.cloudfront.net/2026/04/21/21/30/28/86072f57-b181-4846-a98e-57f6f6a
 440d8/%25245-Bag-Sale-%25284%2529.jpg
END:VEVENT
END:VCALENDAR
